BEGIN:VCALENDAR
VERSION:2.0
PRODID:-//Lifetime Learning Institute - ECPv6.15.20//NONSGML v1.0//EN
CALSCALE:GREGORIAN
METHOD:PUBLISH
X-ORIGINAL-URL:https://lli.bard.edu
X-WR-CALDESC:Events for Lifetime Learning Institute
REFRESH-INTERVAL;VALUE=DURATION:PT1H
X-Robots-Tag:noindex
X-PUBLISHED-TTL:PT1H
BEGIN:VTIMEZONE
TZID:UTC
BEGIN:STANDARD
TZOFFSETFROM:+0000
TZOFFSETTO:+0000
TZNAME:UTC
DTSTART:20170101T000000
END:STANDARD
END:VTIMEZONE
BEGIN:VEVENT
DTSTART;TZID=UTC:20180512T080000
DTEND;TZID=UTC:20180512T170000
DTSTAMP:20260419T132408
CREATED:20180319T025021Z
LAST-MODIFIED:20180319T025841Z
UID:227-1526112000-1526144400@lli.bard.edu
SUMMARY:Spring Saturday Classes - Week 7
DESCRIPTION:
URL:https://lli.bard.edu/event/spring-saturday-classes-week-7/
CATEGORIES:Programs
END:VEVENT
BEGIN:VEVENT
DTSTART;TZID=UTC:20180512T080000
DTEND;TZID=UTC:20180512T170000
DTSTAMP:20260419T132408
CREATED:20180319T005213Z
LAST-MODIFIED:20180319T005213Z
UID:179-1526112000-1526144400@lli.bard.edu
SUMMARY:Last Day of Spring Classes
DESCRIPTION:Last day of Spring classes. Hope to see you at SummerFest!
URL:https://lli.bard.edu/event/last-day-of-spring-classes/
CATEGORIES:Programs
END:VEVENT
BEGIN:VEVENT
DTSTART;TZID=UTC:20180505T080000
DTEND;TZID=UTC:20180505T170000
DTSTAMP:20260419T132408
CREATED:20180319T024950Z
LAST-MODIFIED:20180319T024950Z
UID:225-1525507200-1525539600@lli.bard.edu
SUMMARY:Spring Saturday Classes - Week 6
DESCRIPTION:
URL:https://lli.bard.edu/event/spring-saturday-classes-week-6/
CATEGORIES:Programs
END:VEVENT
BEGIN:VEVENT
DTSTART;TZID=UTC:20180504T080000
DTEND;TZID=UTC:20180504T170000
DTSTAMP:20260419T132408
CREATED:20180319T024526Z
LAST-MODIFIED:20180319T024526Z
UID:213-1525420800-1525453200@lli.bard.edu
SUMMARY:Spring Classes - Week 6
DESCRIPTION:
URL:https://lli.bard.edu/event/spring-classes-week-6/
CATEGORIES:Programs
END:VEVENT
BEGIN:VEVENT
DTSTART;TZID=UTC:20180504T080000
DTEND;TZID=UTC:20180504T170000
DTSTAMP:20260419T132408
CREATED:20180319T005120Z
LAST-MODIFIED:20180319T005120Z
UID:177-1525420800-1525453200@lli.bard.edu
SUMMARY:SummerFest Catalog Arrives
DESCRIPTION:SummerFest Catalog arrives in your email box.
URL:https://lli.bard.edu/event/summerfest-catalog-arrives/
CATEGORIES:Programs
END:VEVENT
BEGIN:VEVENT
DTSTART;TZID=UTC:20180428T080000
DTEND;TZID=UTC:20180428T170000
DTSTAMP:20260419T132408
CREATED:20180319T024914Z
LAST-MODIFIED:20180319T024914Z
UID:223-1524902400-1524934800@lli.bard.edu
SUMMARY:Spring Saturday Classes - Week 5
DESCRIPTION:
URL:https://lli.bard.edu/event/spring-saturday-classes-week-5/
CATEGORIES:Programs
END:VEVENT
BEGIN:VEVENT
DTSTART;TZID=UTC:20180427T080000
DTEND;TZID=UTC:20180427T170000
DTSTAMP:20260419T132408
CREATED:20180319T024442Z
LAST-MODIFIED:20180319T024442Z
UID:211-1524816000-1524848400@lli.bard.edu
SUMMARY:Spring Classes - Week 5
DESCRIPTION:
URL:https://lli.bard.edu/event/spring-classes-week-5/
CATEGORIES:Programs
END:VEVENT
BEGIN:VEVENT
DTSTART;TZID=UTC:20180420T080000
DTEND;TZID=UTC:20180420T170000
DTSTAMP:20260419T132408
CREATED:20180319T005000Z
LAST-MODIFIED:20180319T005000Z
UID:175-1524211200-1524243600@lli.bard.edu
SUMMARY:No classes
DESCRIPTION:No classes on April 20.
URL:https://lli.bard.edu/event/no-classes/
CATEGORIES:Programs
END:VEVENT
BEGIN:VEVENT
DTSTART;TZID=UTC:20180414T080000
DTEND;TZID=UTC:20180414T170000
DTSTAMP:20260419T132408
CREATED:20180319T024832Z
LAST-MODIFIED:20180330T013813Z
UID:221-1523692800-1523725200@lli.bard.edu
SUMMARY:Spring Saturday Classes - Week 4
DESCRIPTION:
URL:https://lli.bard.edu/event/spring-saturday-classes-week-4/
CATEGORIES:Programs
END:VEVENT
BEGIN:VEVENT
DTSTART;TZID=UTC:20180413T080000
DTEND;TZID=UTC:20180413T170000
DTSTAMP:20260419T132408
CREATED:20180319T024404Z
LAST-MODIFIED:20180319T024404Z
UID:209-1523606400-1523638800@lli.bard.edu
SUMMARY:Spring Classes - Week 4
DESCRIPTION:
URL:https://lli.bard.edu/event/spring-classes-week-4/
CATEGORIES:Programs
END:VEVENT
BEGIN:VEVENT
DTSTART;TZID=UTC:20180407T080000
DTEND;TZID=UTC:20180407T170000
DTSTAMP:20260419T132408
CREATED:20180319T024757Z
LAST-MODIFIED:20180319T024757Z
UID:219-1523088000-1523120400@lli.bard.edu
SUMMARY:Spring Saturday Classes - Week 3
DESCRIPTION:
URL:https://lli.bard.edu/event/spring-saturday-classes-week-3/
CATEGORIES:Programs
END:VEVENT
BEGIN:VEVENT
DTSTART;TZID=UTC:20180406T080000
DTEND;TZID=UTC:20180406T170000
DTSTAMP:20260419T132408
CREATED:20180319T024308Z
LAST-MODIFIED:20180319T024308Z
UID:207-1523001600-1523034000@lli.bard.edu
SUMMARY:Spring Classes - Week 3
DESCRIPTION:
URL:https://lli.bard.edu/event/spring-classes-week-3/
CATEGORIES:Programs
END:VEVENT
BEGIN:VEVENT
DTSTART;TZID=UTC:20180331T080000
DTEND;TZID=UTC:20180331T170000
DTSTAMP:20260419T132408
CREATED:20180319T024717Z
LAST-MODIFIED:20180319T024717Z
UID:217-1522483200-1522515600@lli.bard.edu
SUMMARY:Spring Saturday Classes - Week 2
DESCRIPTION:
URL:https://lli.bard.edu/event/spring-saturday-classes-week-2/
CATEGORIES:Programs
END:VEVENT
BEGIN:VEVENT
DTSTART;TZID=UTC:20180330T080000
DTEND;TZID=UTC:20180330T170000
DTSTAMP:20260419T132408
CREATED:20180319T024112Z
LAST-MODIFIED:20180319T025937Z
UID:205-1522396800-1522429200@lli.bard.edu
SUMMARY:Spring Classes - Week 2
DESCRIPTION:
URL:https://lli.bard.edu/event/spring-classes-week-2/
CATEGORIES:Programs
END:VEVENT
BEGIN:VEVENT
DTSTART;TZID=UTC:20180324T080000
DTEND;TZID=UTC:20180324T170000
DTSTAMP:20260419T132408
CREATED:20180319T024631Z
LAST-MODIFIED:20180319T024631Z
UID:215-1521878400-1521910800@lli.bard.edu
SUMMARY:Spring Saturday Classes - Week 1
DESCRIPTION:
URL:https://lli.bard.edu/event/spring-saturday-classes-week-1/
CATEGORIES:Programs
END:VEVENT
BEGIN:VEVENT
DTSTART;TZID=UTC:20180323T080000
DTEND;TZID=UTC:20180323T170000
DTSTAMP:20260419T132408
CREATED:20180318T233047Z
LAST-MODIFIED:20180319T025643Z
UID:170-1521792000-1521824400@lli.bard.edu
SUMMARY:First Day of Spring Classes
DESCRIPTION:Check your emailed class registration form for class locations.
URL:https://lli.bard.edu/event/first-day-of-spring-classes/
CATEGORIES:Programs
END:VEVENT
END:VCALENDAR